BEGIN:VCALENDAR
VERSION:2.0
PRODID:-//eventon.com NONSGML v1.0//EN
CALSCALE:GREGORIAN
METHOD:PUBLISH
BEGIN:VEVENT
UID:69e89f6889953
DTSTAMP:20260422T101400Z
DTSTART:20210904T203000Z
DTEND:20210905T003000Z
LOCATION:Paroisse Ste Thérèse 42 avenue d'Assas\,  Montpellier
SUMMARY:Stage Chanter en groupe
DESCRIPTION:Vous voulez chanter en groupe et vous hésitez ? Vous voulez es
 sayer avant de vous lancer ? Vous êtes curieux ? Ce stage a pour but de vo
 us préparer à entrer dans un groupe vocal\,  que ce soit un atelier ou un
 e chorale. Vous pourrez y tester votre voix « sans[..]\nhttps://choralemo
 ntpellier.com/events/stage-chanter-en-groupe/
URL:https://choralemontpellier.com/events/stage-chanter-en-groupe/
END:VEVENT
END:VCALENDAR