BEGIN:VCALENDAR
VERSION:2.0
PRODID:-//eventon.com NONSGML v1.0//EN
CALSCALE:GREGORIAN
METHOD:PUBLISH
BEGIN:VEVENT
UID:69e8a09fb01b3
DTSTAMP:20260422T101911Z
DTSTART:20241018T170000Z
DTEND:20241018T200000Z
LOCATION:Les Couralies 13 Rue de Nazareth\,  34090 Montpellier
SUMMARY:Karaoké Choral
DESCRIPTION:&nbsp; Karaoké Choral 18 octobre &#8211;  19h  &nbsp; C&rsqu
 o;est parti pour un nouveau tour de chant ! Pas besoin d’être un expert 
 du chant pour participer\,  la soirée est ouverte à tous. &nbsp; Comment 
 ça marche ? Les paroles sont projetées sur un écran\,  le public entame 
 ensemble les chansons\,  [..]\nhttps://choralemontpellier.com/events/karao
 ke-choral-6/
URL:https://choralemontpellier.com/events/karaoke-choral-6/
END:VEVENT
END:VCALENDAR